Package: CellBench Version: 1.25.1 Command: /Library/Frameworks/R.framework/Resources/bin/R CMD INSTALL CellBench StartedAt: 2025-10-24 15:57:04 -0400 (Fri, 24 Oct 2025) EndedAt: 2025-10-24 15:57:42 -0400 (Fri, 24 Oct 2025) EllapsedTime: 37.6 seconds RetCode: 0 Status: OK