Package: CellBench Version: 1.25.1 Command: /Library/Frameworks/R.framework/Resources/bin/R CMD build --keep-empty-dirs --no-resave-data CellBench StartedAt: 2025-10-24 16:27:24 -0400 (Fri, 24 Oct 2025) EndedAt: 2025-10-24 16:28:29 -0400 (Fri, 24 Oct 2025) EllapsedTime: 65.1 seconds RetCode: 0 Status: OK PackageFile: CellBench_1.25.1.tar.gz PackageFileSize: 3.016 MiB