Package: CellBench Version: 1.25.1 Command: rm -rf CellBench.buildbin-libdir && mkdir CellBench.buildbin-libdir && /Users/biocbuild/BBS/utils/build-universal.sh CellBench_1.25.1.tar.gz /Library/Frameworks/R.framework/Resources/bin/R CellBench.buildbin-libdir StartedAt: 2025-10-25 01:31:41 -0400 (Sat, 25 Oct 2025) EndedAt: 2025-10-25 01:32:22 -0400 (Sat, 25 Oct 2025) EllapsedTime: 41.6 seconds RetCode: 0 Status: OK PackageFile: CellBench_1.25.1.tgz PackageFileSize: 3.093 MiB