Package: CellBench Version: 1.25.1 Command: /Library/Frameworks/R.framework/Resources/bin/R CMD INSTALL CellBench StartedAt: 2025-10-26 15:31:00 -0400 (Sun, 26 Oct 2025) EndedAt: 2025-10-26 15:31:12 -0400 (Sun, 26 Oct 2025) EllapsedTime: 11.7 seconds RetCode: 0 Status: OK