Package: CellBench Version: 1.25.1 Maintainer: Shian Su MaintainerEmail: su.s at wehi.edu.au git_url: https://git.bioconductor.org/packages/CellBench git_branch: devel git_last_commit: 54c3375 git_last_commit_date: 2025-10-14 14:32:00 -0400 (Tue, 14 Oct 2025)