Package: CellBarcode Version: 1.15.0 Command: /home/biocbuild/bbs-3.22-bioc/R/bin/R CMD INSTALL CellBarcode StartedAt: 2025-10-24 16:03:05 -0400 (Fri, 24 Oct 2025) EndedAt: 2025-10-24 16:04:05 -0400 (Fri, 24 Oct 2025) EllapsedTime: 60.4 seconds RetCode: 0 Status: OK