Package: CellBarcode Version: 1.16.0 Command: /Library/Frameworks/R.framework/Resources/bin/R CMD INSTALL CellBarcode StartedAt: 2025-11-03 15:48:00 -0500 (Mon, 03 Nov 2025) EndedAt: 2025-11-03 15:49:14 -0500 (Mon, 03 Nov 2025) EllapsedTime: 73.7 seconds RetCode: 0 Status: OK