Package: CellBarcode Version: 1.16.0 Command: /Library/Frameworks/R.framework/Resources/bin/R CMD build --keep-empty-dirs --no-resave-data CellBarcode StartedAt: 2025-11-03 16:22:58 -0500 (Mon, 03 Nov 2025) EndedAt: 2025-11-03 16:24:38 -0500 (Mon, 03 Nov 2025) EllapsedTime: 100.4 seconds RetCode: 0 Status: OK PackageFile: CellBarcode_1.16.0.tar.gz PackageFileSize: 3.161 MiB