Package: CellBarcode Version: 1.15.0 Command: /Library/Frameworks/R.framework/Resources/bin/R CMD INSTALL CellBarcode StartedAt: 2025-10-24 15:29:49 -0400 (Fri, 24 Oct 2025) EndedAt: 2025-10-24 15:30:09 -0400 (Fri, 24 Oct 2025) EllapsedTime: 19.8 seconds RetCode: 0 Status: OK