Package: CellBarcode Version: 1.15.0 Command: /Library/Frameworks/R.framework/Resources/bin/R CMD build --keep-empty-dirs --no-resave-data CellBarcode StartedAt: 2025-10-24 15:54:33 -0400 (Fri, 24 Oct 2025) EndedAt: 2025-10-24 15:55:07 -0400 (Fri, 24 Oct 2025) EllapsedTime: 34.4 seconds RetCode: 0 Status: OK PackageFile: CellBarcode_1.15.0.tar.gz PackageFileSize: 3.162 MiB