Package: CellBarcode Version: 1.15.0 Command: rm -rf CellBarcode.buildbin-libdir && mkdir CellBarcode.buildbin-libdir && /Users/biocbuild/BBS/utils/build-universal.sh CellBarcode_1.15.0.tar.gz /Library/Frameworks/R.framework/Resources/bin/R CellBarcode.buildbin-libdir StartedAt: 2025-10-24 22:56:51 -0400 (Fri, 24 Oct 2025) EndedAt: 2025-10-24 22:57:13 -0400 (Fri, 24 Oct 2025) EllapsedTime: 22.5 seconds RetCode: 0 Status: OK PackageFile: CellBarcode_1.15.0.tgz PackageFileSize: 3.68 MiB