Package: CeTF Version: 1.21.0 Command: /home/biocbuild/bbs-3.22-bioc/R/bin/R CMD INSTALL CeTF StartedAt: 2025-10-24 15:57:56 -0400 (Fri, 24 Oct 2025) EndedAt: 2025-10-24 15:58:57 -0400 (Fri, 24 Oct 2025) EllapsedTime: 60.9 seconds RetCode: 0 Status: OK