Package: CeTF Version: 1.21.0 Command: /home/biocbuild/bbs-3.22-bioc/R/bin/R CMD build --keep-empty-dirs --no-resave-data --md5 CeTF StartedAt: 2025-10-24 16:55:18 -0400 (Fri, 24 Oct 2025) EndedAt: 2025-10-24 16:58:01 -0400 (Fri, 24 Oct 2025) EllapsedTime: 163.2 seconds RetCode: 0 Status: OK PackageFile: CeTF_1.21.0.tar.gz PackageFileSize: 3.829 MiB