Package: CeTF Version: 1.22.0 Command: /Library/Frameworks/R.framework/Resources/bin/R CMD INSTALL CeTF StartedAt: 2025-11-10 15:25:12 -0500 (Mon, 10 Nov 2025) EndedAt: 2025-11-10 15:25:33 -0500 (Mon, 10 Nov 2025) EllapsedTime: 20.9 seconds RetCode: 0 Status: OK