Package: CeTF Version: 1.22.0 Command: /Library/Frameworks/R.framework/Resources/bin/R CMD build --keep-empty-dirs --no-resave-data CeTF StartedAt: 2025-11-10 15:53:53 -0500 (Mon, 10 Nov 2025) EndedAt: 2025-11-10 15:55:02 -0500 (Mon, 10 Nov 2025) EllapsedTime: 68.8 seconds RetCode: 0 Status: OK PackageFile: CeTF_1.22.0.tar.gz PackageFileSize: 4.185 MiB