Package: CeTF Version: 1.22.0 Command: rm -rf CeTF.buildbin-libdir && mkdir CeTF.buildbin-libdir && /Users/biocbuild/BBS/utils/build-universal.sh CeTF_1.22.0.tar.gz /Library/Frameworks/R.framework/Resources/bin/R CeTF.buildbin-libdir StartedAt: 2025-11-10 23:14:15 -0500 (Mon, 10 Nov 2025) EndedAt: 2025-11-10 23:14:38 -0500 (Mon, 10 Nov 2025) EllapsedTime: 23.4 seconds RetCode: 0 Status: OK PackageFile: CeTF_1.22.0.tgz PackageFileSize: 4.279 MiB