Package: CausalR Version: 1.42.0 Command: /Library/Frameworks/R.framework/Resources/bin/R CMD INSTALL CausalR StartedAt: 2025-10-30 15:03:04 -0400 (Thu, 30 Oct 2025) EndedAt: 2025-10-30 15:03:08 -0400 (Thu, 30 Oct 2025) EllapsedTime: 3.8 seconds RetCode: 0 Status: OK