Package: CausalR Version: 1.42.0 Command: rm -rf CausalR.buildbin-libdir && mkdir CausalR.buildbin-libdir && /Users/biocbuild/BBS/utils/build-universal.sh CausalR_1.42.0.tar.gz /Library/Frameworks/R.framework/Resources/bin/R CausalR.buildbin-libdir StartedAt: 2025-10-30 05:18:25 -0400 (Thu, 30 Oct 2025) EndedAt: 2025-10-30 05:18:28 -0400 (Thu, 30 Oct 2025) EllapsedTime: 3.1 seconds RetCode: 0 Status: OK PackageFile: CausalR_1.42.0.tgz PackageFileSize: 647.2 KiB