Package: CatsCradle Version: 1.3.2 Command: /home/biocbuild/bbs-3.22-bioc/R/bin/R CMD INSTALL CatsCradle StartedAt: 2025-10-24 15:30:36 -0400 (Fri, 24 Oct 2025) EndedAt: 2025-10-24 15:31:16 -0400 (Fri, 24 Oct 2025) EllapsedTime: 40.2 seconds RetCode: 0 Status: OK