Package: Category Version: 2.75.0 Command: /home/biocbuild/bbs-3.22-bioc/R/bin/R CMD INSTALL Category StartedAt: 2025-10-24 15:40:37 -0400 (Fri, 24 Oct 2025) EndedAt: 2025-10-24 15:41:00 -0400 (Fri, 24 Oct 2025) EllapsedTime: 22.9 seconds RetCode: 0 Status: OK