Package: Category Version: 2.75.0 Command: /home/biocbuild/bbs-3.22-bioc/R/bin/R CMD build --keep-empty-dirs --no-resave-data --md5 Category StartedAt: 2025-10-24 16:48:37 -0400 (Fri, 24 Oct 2025) EndedAt: 2025-10-24 16:49:57 -0400 (Fri, 24 Oct 2025) EllapsedTime: 80.1 seconds RetCode: 0 Status: OK PackageFile: Category_2.75.0.tar.gz PackageFileSize: 877.3 KiB