Package: CardinalIO Version: 1.8.0 Command: /home/biocbuild/R/R/bin/R CMD build --keep-empty-dirs --no-resave-data CardinalIO StartedAt: 2025-11-18 00:14:01 -0000 (Tue, 18 Nov 2025) EndedAt: 2025-11-18 00:14:37 -0000 (Tue, 18 Nov 2025) EllapsedTime: 36.0 seconds RetCode: 0 Status: OK PackageFile: CardinalIO_1.8.0.tar.gz PackageFileSize: 1007 KiB