Package: CardinalIO Version: 1.7.0 Command: /home/biocbuild/bbs-3.22-bioc/R/bin/R CMD INSTALL CardinalIO StartedAt: 2025-10-27 15:14:48 -0400 (Mon, 27 Oct 2025) EndedAt: 2025-10-27 15:15:05 -0400 (Mon, 27 Oct 2025) EllapsedTime: 17.3 seconds RetCode: 0 Status: OK