Package: CardinalIO Version: 1.8.0 Command: /Library/Frameworks/R.framework/Resources/bin/R CMD build --keep-empty-dirs --no-resave-data CardinalIO StartedAt: 2025-10-29 23:00:44 -0400 (Wed, 29 Oct 2025) EndedAt: 2025-10-29 23:01:16 -0400 (Wed, 29 Oct 2025) EllapsedTime: 31.2 seconds RetCode: 0 Status: OK PackageFile: CardinalIO_1.8.0.tar.gz PackageFileSize: 968.2 KiB