Package: CardinalIO Version: 1.7.0 Command: rm -rf CardinalIO.buildbin-libdir && mkdir CardinalIO.buildbin-libdir && /Users/biocbuild/BBS/utils/build-universal.sh CardinalIO_1.7.0.tar.gz /Library/Frameworks/R.framework/Resources/bin/R CardinalIO.buildbin-libdir StartedAt: 2025-10-25 01:31:16 -0400 (Sat, 25 Oct 2025) EndedAt: 2025-10-25 01:31:43 -0400 (Sat, 25 Oct 2025) EllapsedTime: 27.7 seconds RetCode: 0 Status: OK PackageFile: CardinalIO_1.7.0.tgz PackageFileSize: 1.253 MiB