Package: Cardinal Version: 3.11.1 Command: /home/biocbuild/bbs-3.22-bioc/R/bin/R CMD INSTALL Cardinal StartedAt: 2025-10-24 15:23:27 -0400 (Fri, 24 Oct 2025) EndedAt: 2025-10-24 15:23:54 -0400 (Fri, 24 Oct 2025) EllapsedTime: 26.4 seconds RetCode: 0 Status: OK