Package: Cardinal Version: 3.12.0 Command: /Library/Frameworks/R.framework/Resources/bin/R CMD INSTALL Cardinal StartedAt: 2025-11-03 15:19:54 -0500 (Mon, 03 Nov 2025) EndedAt: 2025-11-03 15:20:42 -0500 (Mon, 03 Nov 2025) EllapsedTime: 47.9 seconds RetCode: 0 Status: OK