Package: Cardinal Version: 3.12.0 Command: /Library/Frameworks/R.framework/Resources/bin/R CMD build --keep-empty-dirs --no-resave-data Cardinal StartedAt: 2025-11-03 16:20:55 -0500 (Mon, 03 Nov 2025) EndedAt: 2025-11-03 16:29:39 -0500 (Mon, 03 Nov 2025) EllapsedTime: 523.6 seconds RetCode: 0 Status: OK PackageFile: Cardinal_3.12.0.tar.gz PackageFileSize: 5.158 MiB