Package: Cardinal Version: 3.12.0 Command: rm -rf Cardinal.buildbin-libdir && mkdir Cardinal.buildbin-libdir && /Users/biocbuild/BBS/utils/build-universal.sh Cardinal_3.12.0.tar.gz /Library/Frameworks/R.framework/Resources/bin/R Cardinal.buildbin-libdir StartedAt: 2025-11-04 01:31:08 -0500 (Tue, 04 Nov 2025) EndedAt: 2025-11-04 01:31:47 -0500 (Tue, 04 Nov 2025) EllapsedTime: 39.4 seconds RetCode: 0 Status: OK PackageFile: Cardinal_3.12.0.tgz PackageFileSize: 6.666 MiB