Package: Cardinal Version: 3.11.1 Command: /Library/Frameworks/R.framework/Resources/bin/R CMD INSTALL Cardinal StartedAt: 2025-10-24 15:09:35 -0400 (Fri, 24 Oct 2025) EndedAt: 2025-10-24 15:09:44 -0400 (Fri, 24 Oct 2025) EllapsedTime: 8.8 seconds RetCode: 0 Status: OK