Package: Cardinal Version: 3.11.1 Command: /Library/Frameworks/R.framework/Resources/bin/R CMD build --keep-empty-dirs --no-resave-data Cardinal StartedAt: 2025-10-24 15:53:19 -0400 (Fri, 24 Oct 2025) EndedAt: 2025-10-24 15:55:51 -0400 (Fri, 24 Oct 2025) EllapsedTime: 151.7 seconds RetCode: 0 Status: OK PackageFile: Cardinal_3.11.1.tar.gz PackageFileSize: 5.155 MiB