Package: Cardinal Version: 3.11.1 Command: rm -rf Cardinal.buildbin-libdir && mkdir Cardinal.buildbin-libdir && /Users/biocbuild/BBS/utils/build-universal.sh Cardinal_3.11.1.tar.gz /Library/Frameworks/R.framework/Resources/bin/R Cardinal.buildbin-libdir StartedAt: 2025-10-24 22:56:32 -0400 (Fri, 24 Oct 2025) EndedAt: 2025-10-24 22:56:42 -0400 (Fri, 24 Oct 2025) EllapsedTime: 10.2 seconds RetCode: 0 Status: OK PackageFile: Cardinal_3.11.1.tgz PackageFileSize: 6.664 MiB