Package: CalibraCurve Version: 0.99.2 Command: /home/biocbuild/bbs-3.22-bioc/R/bin/R CMD INSTALL CalibraCurve StartedAt: 2025-10-24 15:48:37 -0400 (Fri, 24 Oct 2025) EndedAt: 2025-10-24 15:49:02 -0400 (Fri, 24 Oct 2025) EllapsedTime: 24.7 seconds RetCode: 0 Status: OK