Package: CaMutQC Version: 1.5.6 Command: /home/biocbuild/bbs-3.22-bioc/R/bin/R CMD INSTALL CaMutQC StartedAt: 2025-10-24 15:57:56 -0400 (Fri, 24 Oct 2025) EndedAt: 2025-10-24 15:58:25 -0400 (Fri, 24 Oct 2025) EllapsedTime: 29.2 seconds RetCode: 0 Status: OK