Package: CaMutQC Version: 1.5.6 Command: /home/biocbuild/bbs-3.22-bioc/R/bin/R CMD build --keep-empty-dirs --no-resave-data --md5 CaMutQC StartedAt: 2025-10-24 16:47:29 -0400 (Fri, 24 Oct 2025) EndedAt: 2025-10-24 16:48:37 -0400 (Fri, 24 Oct 2025) EllapsedTime: 68.1 seconds RetCode: 0 Status: OK PackageFile: CaMutQC_1.5.6.tar.gz PackageFileSize: 5.315 MiB