Package: CaMutQC Version: 1.6.0 Command: /Library/Frameworks/R.framework/Resources/bin/R CMD build --keep-empty-dirs --no-resave-data CaMutQC StartedAt: 2025-11-03 16:20:27 -0500 (Mon, 03 Nov 2025) EndedAt: 2025-11-03 16:21:45 -0500 (Mon, 03 Nov 2025) EllapsedTime: 77.7 seconds RetCode: 0 Status: OK PackageFile: CaMutQC_1.6.0.tar.gz PackageFileSize: 5.311 MiB