Package: CaMutQC Version: 1.6.0 Command: rm -rf CaMutQC.buildbin-libdir && mkdir CaMutQC.buildbin-libdir && /Users/biocbuild/BBS/utils/build-universal.sh CaMutQC_1.6.0.tar.gz /Library/Frameworks/R.framework/Resources/bin/R CaMutQC.buildbin-libdir StartedAt: 2025-11-04 01:31:02 -0500 (Tue, 04 Nov 2025) EndedAt: 2025-11-04 01:31:45 -0500 (Tue, 04 Nov 2025) EllapsedTime: 42.9 seconds RetCode: 0 Status: OK PackageFile: CaMutQC_1.6.0.tgz PackageFileSize: 4.584 MiB