Package: CaMutQC Version: 1.5.6 Command: /Library/Frameworks/R.framework/Resources/bin/R CMD INSTALL CaMutQC StartedAt: 2025-10-24 15:28:52 -0400 (Fri, 24 Oct 2025) EndedAt: 2025-10-24 15:29:03 -0400 (Fri, 24 Oct 2025) EllapsedTime: 11.6 seconds RetCode: 0 Status: OK