Package: CaMutQC Version: 1.5.6 Command: /Library/Frameworks/R.framework/Resources/bin/R CMD build --keep-empty-dirs --no-resave-data CaMutQC StartedAt: 2025-10-24 15:53:02 -0400 (Fri, 24 Oct 2025) EndedAt: 2025-10-24 15:53:29 -0400 (Fri, 24 Oct 2025) EllapsedTime: 27.3 seconds RetCode: 0 Status: OK PackageFile: CaMutQC_1.5.6.tar.gz PackageFileSize: 5.311 MiB