Package: CaMutQC Version: 1.6.0 Maintainer: Xin Wang MaintainerEmail: sylviawang555 at gmail.com git_url: https://git.bioconductor.org/packages/CaMutQC git_branch: RELEASE_3_22 git_last_commit: 77bf433 git_last_commit_date: 2025-10-29 11:28:46 -0500 (Wed, 29 Oct 2025)