Package: CaDrA Version: 1.7.0 Command: /home/biocbuild/bbs-3.22-bioc/R/bin/R CMD INSTALL CaDrA StartedAt: 2025-10-27 15:20:13 -0400 (Mon, 27 Oct 2025) EndedAt: 2025-10-27 15:20:41 -0400 (Mon, 27 Oct 2025) EllapsedTime: 27.1 seconds RetCode: 0 Status: OK