Package: CTexploreR Version: 1.5.2 Command: /home/biocbuild/bbs-3.22-bioc/R/bin/R CMD INSTALL CTexploreR StartedAt: 2025-10-24 16:09:52 -0400 (Fri, 24 Oct 2025) EndedAt: 2025-10-24 16:10:31 -0400 (Fri, 24 Oct 2025) EllapsedTime: 38.7 seconds RetCode: 0 Status: OK