Package: CTexploreR Version: 1.5.2 Command: /home/biocbuild/bbs-3.22-bioc/R/bin/R CMD build --keep-empty-dirs --no-resave-data --md5 CTexploreR StartedAt: 2025-10-24 17:15:51 -0400 (Fri, 24 Oct 2025) EndedAt: 2025-10-24 17:27:55 -0400 (Fri, 24 Oct 2025) EllapsedTime: 723.7 seconds RetCode: 0 Status: OK PackageFile: CTexploreR_1.5.2.tar.gz PackageFileSize: 7.272 MiB