Package: CTDquerier Version: 2.18.0 Command: /Library/Frameworks/R.framework/Resources/bin/R CMD build --keep-empty-dirs --no-resave-data CTDquerier StartedAt: 2025-11-03 16:39:02 -0500 (Mon, 03 Nov 2025) EndedAt: 2025-11-03 16:39:05 -0500 (Mon, 03 Nov 2025) EllapsedTime: 3.4 seconds RetCode: 0 Status: OK PackageFile: CTDquerier_2.18.0.tar.gz PackageFileSize: 2.803 MiB