Package: CTDquerier Version: 2.17.0 Command: /Library/Frameworks/R.framework/Resources/bin/R CMD build --keep-empty-dirs --no-resave-data CTDquerier StartedAt: 2025-10-26 16:06:46 -0400 (Sun, 26 Oct 2025) EndedAt: 2025-10-26 16:06:47 -0400 (Sun, 26 Oct 2025) EllapsedTime: 1.0 seconds RetCode: 0 Status: OK PackageFile: CTDquerier_2.17.0.tar.gz PackageFileSize: 2.803 MiB