Package: CSSQ Version: 1.21.0 Command: /home/biocbuild/R/R/bin/R CMD INSTALL CSSQ StartedAt: 2025-10-23 21:02:02 -0000 (Thu, 23 Oct 2025) EndedAt: 2025-10-23 21:02:47 -0000 (Thu, 23 Oct 2025) EllapsedTime: 44.8 seconds RetCode: 0 Status: OK