Package: CSSQ Version: 1.21.0 Command: /home/biocbuild/bbs-3.22-bioc/R/bin/R CMD build --keep-empty-dirs --no-resave-data --md5 CSSQ StartedAt: 2025-10-24 17:15:28 -0400 (Fri, 24 Oct 2025) EndedAt: 2025-10-24 17:16:27 -0400 (Fri, 24 Oct 2025) EllapsedTime: 59.0 seconds RetCode: 0 Status: OK PackageFile: CSSQ_1.21.0.tar.gz PackageFileSize: 868 KiB