Package: CSSQ Version: 1.21.0 Command: /Library/Frameworks/R.framework/Resources/bin/R CMD build --keep-empty-dirs --no-resave-data CSSQ StartedAt: 2025-10-24 16:42:31 -0400 (Fri, 24 Oct 2025) EndedAt: 2025-10-24 16:43:42 -0400 (Fri, 24 Oct 2025) EllapsedTime: 70.8 seconds RetCode: 0 Status: OK PackageFile: CSSQ_1.21.0.tar.gz PackageFileSize: 866.3 KiB