Package: CSSQ Version: 1.21.0 Command: /Library/Frameworks/R.framework/Resources/bin/R CMD INSTALL CSSQ StartedAt: 2025-10-24 15:22:58 -0400 (Fri, 24 Oct 2025) EndedAt: 2025-10-24 15:23:13 -0400 (Fri, 24 Oct 2025) EllapsedTime: 14.6 seconds RetCode: 0 Status: OK