Package: CSSQ Version: 1.22.0 Command: /Library/Frameworks/R.framework/Resources/bin/R CMD check --install=check:CSSQ.install-out.txt --library=/Library/Frameworks/R.framework/Resources/library --no-vignettes --timings CSSQ_1.22.0.tar.gz StartedAt: 2025-10-31 19:17:48 -0400 (Fri, 31 Oct 2025) EndedAt: 2025-10-31 19:19:31 -0400 (Fri, 31 Oct 2025) EllapsedTime: 103.2 seconds RetCode: 0 Status: OK CheckDir: CSSQ.Rcheck Warnings: 0